Package: OSCA.basic Version: 1.4.1 Command: /home/biocbuild/bbs-3.15-bioc/R/bin/R CMD INSTALL OSCA.basic StartedAt: 2022-10-19 07:00:33 -0400 (Wed, 19 Oct 2022) EndedAt: 2022-10-19 07:00:59 -0400 (Wed, 19 Oct 2022) EllapsedTime: 25.8 seconds RetCode: 0 Status: OK