See here for how to subscribe to these builds.
This page was generated on 2022-10-15 21:00:02 -0400 (Sat, 15 Oct 2022).
|
| Hostname | OS | Arch (*) | R version | Installed pkgs |
|---|---|---|---|---|
| nebbiolo1 | Linux (Ubuntu 20.04.5 LTS) | x86_64 | 4.2.1 (2022-06-23) -- "Funny-Looking Kid" | 4383 |
| Click on any hostname to see more info about the system (e.g. compilers) (*) as reported by 'uname -p', except on Windows and Mac OS X | ||||
| QUICK STATS | OS / Arch | CHECK | |||||||
| nebbiolo1 | Linux (Ubuntu 20.04.5 LTS) / x86_64 |
| |||||||
| Package | Maintainer | CHECK | |||||||
| 1/26 | APAlyzer 1.10.0 (landing page) | Ruijia Wang | ERROR | ||||||
| 2/26 | autonomics 1.4.0 (landing page) | Aditya Bhagwat | ERROR | ||||||
| 3/26 | beachmat 2.12.0 (landing page) | Aaron Lun | ERROR | ||||||
| 4/26 | biodb 1.4.2 (landing page) | Pierrick Roger | OK | ||||||
| 5/26 | biodbChebi 1.2.0 (landing page) | Pierrick Roger | OK | ||||||
| 6/26 | biodbExpasy 1.0.0 (landing page) | Pierrick Roger | OK | ||||||
| 7/26 | biodbHmdb 1.2.0 (landing page) | Pierrick Roger | OK | ||||||
| 8/26 | biodbKegg 1.2.1 (landing page) | Pierrick Roger | OK | ||||||
| 9/26 | biodbLipidmaps 1.2.0 (landing page) | Pierrick Roger | OK | ||||||
| 10/26 | biodbMirbase 1.0.0 (landing page) | Pierrick Roger | OK | ||||||
| 11/26 | biodbNcbi 1.0.0 (landing page) | Pierrick Roger | WARNINGS | ||||||
| 12/26 | biodbNci 1.0.0 (landing page) | Pierrick Roger | OK | ||||||
| 13/26 | biodbUniprot 1.2.1 (landing page) | Pierrick Roger | OK | ||||||
| 14/26 | cBioPortalData 2.8.2 (landing page) | Marcel Ramos | ERROR | ||||||
| 15/26 | ChromSCape 1.6.0 (landing page) | Pacome Prompsy | ERROR | ||||||
| 16/26 | clusterExperiment 2.16.0 (landing page) | Elizabeth Purdom | ERROR | ||||||
| 17/26 | crisprScore 1.0.0 (landing page) | Jean-Philippe Fortin | WARNINGS | ||||||
| 18/26 | DelayedMatrixStats 1.18.2 (landing page) | Peter Hickey | OK | ||||||
| 19/26 | DropletUtils 1.16.0 (landing page) | Jonathan Griffiths | OK | ||||||
| 20/26 | extraChIPs 1.0.4 (landing page) | Stephen Pederson | OK | ||||||
| 21/26 | GenomicFeatures 1.48.4 (landing page) | Bioconductor Package Maintainer | WARNINGS | ||||||
| 22/26 | HDF5Array 1.24.2 (landing page) | Hervé Pagès | ERROR | ||||||
| 23/26 | midasHLA 1.4.0 (landing page) | Maciej Migdał | ERROR | ||||||
| 24/26 | rhdf5 2.40.0 (landing page) | Mike Smith | OK | ||||||
| 25/26 | xcms 3.18.0 (landing page) | Steffen Neumann | ERROR | ||||||
| 26/26 | zellkonverter 1.6.5 (landing page) | Luke Zappia | OK | ||||||