Welcome to mirrors.dotsrc.org

All our mirrors of open source software are available via http, https, ftp and an onion service. More information about our mirrors including statistics and contact information is available on our mirror info pages.

For information about dotsrc.org and our other services please go to our website.

Index of /bioconductor/checkResults/3.15/bioc-LATEST/zellkonverter/raw-results/palomino3/

File Name  ↓ File Size  ↓ Date  ↓ 
--
1016 B2022-10-19 17:22:30
548 B2022-10-19 17:22:30
990 B2022-10-19 17:22:30
474 B2022-10-19 17:22:30
3.5 KiB2022-10-19 17:22:30
469 B2022-10-19 17:22:30
859 B2022-10-19 17:22:30
279 B2022-10-19 17:22:30