Package: zellkonverter Version: 1.6.5 Command: /Library/Frameworks/R.framework/Resources/bin/R CMD build --keep-empty-dirs --no-resave-data zellkonverter StartedAt: 2022-10-18 22:38:23 -0400 (Tue, 18 Oct 2022) EndedAt: 2022-10-18 22:39:58 -0400 (Tue, 18 Oct 2022) EllapsedTime: 94.6 seconds RetCode: 0 Status: OK PackageFile: zellkonverter_1.6.5.tar.gz PackageFileSize: 1.08 MiB