Package: xcore Version: 1.0.0 Command: chmod a+r xcore -R && F:\biocbuild\bbs-3.15-bioc\R\bin\R.exe CMD build --keep-empty-dirs --no-resave-data xcore StartedAt: 2022-10-18 21:41:03 -0400 (Tue, 18 Oct 2022) EndedAt: 2022-10-18 21:44:48 -0400 (Tue, 18 Oct 2022) EllapsedTime: 224.9 seconds RetCode: 0 Status: OK PackageFile: xcore_1.0.0.tar.gz PackageFileSize: 1.876 MiB