Package: xcore Version: 1.0.0 Command: /Library/Frameworks/R.framework/Resources/bin/R CMD build --keep-empty-dirs --no-resave-data xcore StartedAt: 2022-10-18 22:36:51 -0400 (Tue, 18 Oct 2022) EndedAt: 2022-10-18 22:39:09 -0400 (Tue, 18 Oct 2022) EllapsedTime: 138.2 seconds RetCode: 0 Status: OK PackageFile: xcore_1.0.0.tar.gz PackageFileSize: 1.925 MiB