Package: veloviz Version: 1.2.1 Command: /Library/Frameworks/R.framework/Resources/bin/R CMD check --install=check:veloviz.install-out.txt --library=/Library/Frameworks/R.framework/Resources/library --no-vignettes --timings veloviz_1.2.1.tar.gz StartedAt: 2022-10-19 09:26:31 -0400 (Wed, 19 Oct 2022) EndedAt: 2022-10-19 09:28:30 -0400 (Wed, 19 Oct 2022) EllapsedTime: 118.4 seconds RetCode: 0 Status: OK CheckDir: veloviz.Rcheck Warnings: 0