Package: veloviz Version: 1.2.1 Command: /Library/Frameworks/R.framework/Resources/bin/R CMD build --keep-empty-dirs --no-resave-data veloviz StartedAt: 2022-10-18 22:32:21 -0400 (Tue, 18 Oct 2022) EndedAt: 2022-10-18 22:32:58 -0400 (Tue, 18 Oct 2022) EllapsedTime: 36.4 seconds RetCode: 0 Status: OK PackageFile: veloviz_1.2.1.tar.gz PackageFileSize: 3.546 MiB