Package: veloviz Version: 1.2.1 Command: rm -rf veloviz.buildbin-libdir && mkdir veloviz.buildbin-libdir && /Users/biocbuild/BBS/utils/build-universal.sh veloviz_1.2.1.tar.gz /Library/Frameworks/R.framework/Resources/bin/R veloviz.buildbin-libdir StartedAt: 2022-10-19 11:22:48 -0400 (Wed, 19 Oct 2022) EndedAt: 2022-10-19 11:23:21 -0400 (Wed, 19 Oct 2022) EllapsedTime: 33.1 seconds RetCode: 0 Status: OK PackageFile: veloviz_1.2.1.tgz PackageFileSize: 3.638 MiB