Package: updateObject Version: 0.99.11 Command: chmod a+r updateObject -R && D:\biocbuild\bbs-3.15-bioc\R\bin\R.exe CMD build --keep-empty-dirs --no-resave-data updateObject StartedAt: 2022-03-17 18:15:23 -0400 (Thu, 17 Mar 2022) EndedAt: 2022-03-17 18:15:46 -0400 (Thu, 17 Mar 2022) EllapsedTime: 22.8 seconds RetCode: 0 Status: OK PackageFile: updateObject_0.99.11.tar.gz PackageFileSize: 1.291 MiB