Package: updateObject Version: 1.0.0 Command: chmod a+r updateObject -R && F:\biocbuild\bbs-3.15-bioc\R\bin\R.exe CMD build --keep-empty-dirs --no-resave-data updateObject StartedAt: 2022-10-18 21:35:24 -0400 (Tue, 18 Oct 2022) EndedAt: 2022-10-18 21:35:54 -0400 (Tue, 18 Oct 2022) EllapsedTime: 29.8 seconds RetCode: 0 Status: OK PackageFile: updateObject_1.0.0.tar.gz PackageFileSize: 1.291 MiB