Package: updateObject Version: 1.0.0 Command: /Library/Frameworks/R.framework/Resources/bin/R CMD build --keep-empty-dirs --no-resave-data updateObject StartedAt: 2022-10-18 22:29:12 -0400 (Tue, 18 Oct 2022) EndedAt: 2022-10-18 22:29:43 -0400 (Tue, 18 Oct 2022) EllapsedTime: 31.6 seconds RetCode: 0 Status: OK PackageFile: updateObject_1.0.0.tar.gz PackageFileSize: 1.29 MiB