git_url: https://git.bioconductor.org/packages/universalmotif git_branch: RELEASE_3_15 git_last_commit: 0221c4f git_last_commit_date: 2022-05-30 05:25:22 -0400 (Mon, 30 May 2022) Package: universalmotif Version: 1.14.1 Maintainer: Benjamin Jean-Marie Tremblay MaintainerEmail: benjamin.tremblay at uwaterloo.ca