Package: trena Version: 1.17.0 Command: chmod a+r trena -R && D:\biocbuild\bbs-3.15-bioc\R\bin\R.exe CMD build --keep-empty-dirs --no-resave-data trena StartedAt: 2022-03-17 18:14:12 -0400 (Thu, 17 Mar 2022) EndedAt: 2022-03-17 18:15:45 -0400 (Thu, 17 Mar 2022) EllapsedTime: 93.1 seconds RetCode: 0 Status: OK PackageFile: trena_1.17.0.tar.gz PackageFileSize: 6.799 MiB