Package: trena Version: 1.18.1 Command: /Library/Frameworks/R.framework/Resources/bin/R CMD build --keep-empty-dirs --no-resave-data trena StartedAt: 2022-10-18 22:22:45 -0400 (Tue, 18 Oct 2022) EndedAt: 2022-10-18 22:25:15 -0400 (Tue, 18 Oct 2022) EllapsedTime: 150.1 seconds RetCode: 0 Status: OK PackageFile: trena_1.18.1.tar.gz PackageFileSize: 6.805 MiB