Package: traviz Version: 1.2.0 Command: /Library/Frameworks/R.framework/Resources/bin/R CMD INSTALL traviz StartedAt: 2022-10-18 15:44:53 -0400 (Tue, 18 Oct 2022) EndedAt: 2022-10-18 15:45:41 -0400 (Tue, 18 Oct 2022) EllapsedTime: 48.3 seconds RetCode: 0 Status: OK