git_url: https://git.bioconductor.org/packages/topconfects git_branch: RELEASE_3_15 git_last_commit: 7b56e38 git_last_commit_date: 2022-04-26 11:52:56 -0400 (Tue, 26 Apr 2022) Package: topconfects Version: 1.12.0 Maintainer: Paul Harrison MaintainerEmail: paul.harrison at monash.edu