Package: timecourse Version: 1.68.0 Command: rm -rf timecourse.buildbin-libdir && mkdir timecourse.buildbin-libdir && /Users/biocbuild/BBS/utils/build-universal.sh timecourse_1.68.0.tar.gz /Library/Frameworks/R.framework/Resources/bin/R timecourse.buildbin-libdir StartedAt: 2022-10-19 11:19:03 -0400 (Wed, 19 Oct 2022) EndedAt: 2022-10-19 11:19:16 -0400 (Wed, 19 Oct 2022) EllapsedTime: 13.2 seconds RetCode: 0 Status: OK PackageFile: timecourse_1.68.0.tgz PackageFileSize: 934.9 KiB