git_url: https://git.bioconductor.org/packages/tigre git_branch: RELEASE_3_15 git_last_commit: c9e9ba3 git_last_commit_date: 2022-04-26 11:04:36 -0400 (Tue, 26 Apr 2022) Package: tigre Version: 1.50.0 Maintainer: Antti Honkela MaintainerEmail: antti.honkela at helsinki.fi