Package: tRNA Version: 1.14.0 Command: /Library/Frameworks/R.framework/Resources/bin/R CMD INSTALL tRNA StartedAt: 2022-10-18 15:30:53 -0400 (Tue, 18 Oct 2022) EndedAt: 2022-10-18 15:31:26 -0400 (Tue, 18 Oct 2022) EllapsedTime: 32.9 seconds RetCode: 0 Status: OK