git_url: https://git.bioconductor.org/packages/tRNA git_branch: RELEASE_3_15 git_last_commit: 1949025 git_last_commit_date: 2022-04-26 11:51:43 -0400 (Tue, 26 Apr 2022) Package: tRNA Version: 1.14.0 Maintainer: Felix GM Ernst MaintainerEmail: felix.gm.ernst at outlook.com