git_url: https://git.bioconductor.org/packages/ssrch git_branch: RELEASE_3_15 git_last_commit: 889d64b git_last_commit_date: 2022-04-26 11:54:48 -0400 (Tue, 26 Apr 2022) Package: ssrch Version: 1.12.0 Maintainer: VJ Carey MaintainerEmail: stvjc at channing.harvard.edu