git_url: https://git.bioconductor.org/packages/spikeLI git_branch: RELEASE_3_15 git_last_commit: f6e5b38 git_last_commit_date: 2022-04-26 10:58:41 -0400 (Tue, 26 Apr 2022) Package: spikeLI Version: 2.56.0 Maintainer: Enrico Carlon MaintainerEmail: enrico.carlon at fys.kuleuven.be