Package: sparseDOSSA Version: 1.19.0 Command: rm -rf sparseDOSSA.buildbin-libdir && mkdir sparseDOSSA.buildbin-libdir && D:\biocbuild\bbs-3.15-bioc\R\bin\R.exe CMD INSTALL --build --library=sparseDOSSA.buildbin-libdir sparseDOSSA_1.19.0.tar.gz StartedAt: 2022-03-17 21:41:36 -0400 (Thu, 17 Mar 2022) EndedAt: 2022-03-17 21:42:56 -0400 (Thu, 17 Mar 2022) EllapsedTime: 79.8 seconds RetCode: 0 Status: OK PackageFile: sparseDOSSA_1.19.0.zip PackageFileSize: 652.9 KiB