Package: snpStats Version: 1.45.0 Command: D:\biocbuild\bbs-3.15-bioc\R\bin\R.exe CMD check --no-multiarch --install=check:snpStats.install-out.txt --library=D:\biocbuild\bbs-3.15-bioc\R\library --no-vignettes --timings snpStats_1.45.0.tar.gz StartedAt: 2022-03-17 20:20:11 -0400 (Thu, 17 Mar 2022) EndedAt: 2022-03-17 20:21:24 -0400 (Thu, 17 Mar 2022) EllapsedTime: 72.5 seconds RetCode: 0 Status: WARNINGS CheckDir: snpStats.Rcheck Warnings: 1