Package: snpStats Version: 1.45.0 Command: chmod a+r snpStats -R && D:\biocbuild\bbs-3.15-bioc\R\bin\R.exe CMD build --keep-empty-dirs --no-resave-data snpStats StartedAt: 2022-03-17 18:06:15 -0400 (Thu, 17 Mar 2022) EndedAt: 2022-03-17 18:08:39 -0400 (Thu, 17 Mar 2022) EllapsedTime: 144.5 seconds RetCode: 0 Status: OK PackageFile: snpStats_1.45.0.tar.gz PackageFileSize: 6.954 MiB