Package: seqcombo Version: 1.18.0 Command: /home/biocbuild/bbs-3.15-bioc/R/bin/R CMD check --install=check:seqcombo.install-out.txt --library=/home/biocbuild/bbs-3.15-bioc/R/library --no-vignettes --timings seqcombo_1.18.0.tar.gz StartedAt: 2022-10-18 21:48:02 -0400 (Tue, 18 Oct 2022) EndedAt: 2022-10-18 21:48:34 -0400 (Tue, 18 Oct 2022) EllapsedTime: 32.0 seconds RetCode: 0 Status: OK CheckDir: seqcombo.Rcheck Warnings: 0