Package: semisup Version: 1.20.0 Command: F:\biocbuild\bbs-3.15-bioc\R\bin\R.exe CMD INSTALL semisup StartedAt: 2022-10-18 16:16:06 -0400 (Tue, 18 Oct 2022) EndedAt: 2022-10-18 16:16:15 -0400 (Tue, 18 Oct 2022) EllapsedTime: 9.7 seconds RetCode: 0 Status: OK