Package: segmenter Version: 1.1.0 Command: rm -rf segmenter.buildbin-libdir && mkdir segmenter.buildbin-libdir && D:\biocbuild\bbs-3.15-bioc\R\bin\R.exe CMD INSTALL --build --library=segmenter.buildbin-libdir segmenter_1.1.0.tar.gz StartedAt: 2022-03-16 21:28:11 -0400 (Wed, 16 Mar 2022) EndedAt: 2022-03-16 21:30:06 -0400 (Wed, 16 Mar 2022) EllapsedTime: 114.7 seconds RetCode: 0 Status: OK PackageFile: segmenter_1.1.0.zip PackageFileSize: 4.317 MiB