Package: segmenter Version: 1.2.0 Command: /home/biocbuild/bbs-3.15-bioc/R/bin/R CMD INSTALL segmenter StartedAt: 2022-10-18 15:45:27 -0400 (Tue, 18 Oct 2022) EndedAt: 2022-10-18 15:46:10 -0400 (Tue, 18 Oct 2022) EllapsedTime: 43.3 seconds RetCode: 0 Status: OK