Package: scClassify Version: 1.7.1 Command: D:\biocbuild\bbs-3.15-bioc\R\bin\R.exe CMD check --no-multiarch --install=check:scClassify.install-out.txt --library=D:\biocbuild\bbs-3.15-bioc\R\library --no-vignettes --timings scClassify_1.7.1.tar.gz StartedAt: 2022-03-17 20:11:44 -0400 (Thu, 17 Mar 2022) EndedAt: 2022-03-17 20:17:16 -0400 (Thu, 17 Mar 2022) EllapsedTime: 332.4 seconds RetCode: 0 Status: OK CheckDir: scClassify.Rcheck Warnings: 0