Package: scClassify Version: 1.7.1 Command: chmod a+r scClassify -R && D:\biocbuild\bbs-3.15-bioc\R\bin\R.exe CMD build --keep-empty-dirs --no-resave-data scClassify StartedAt: 2022-03-17 17:58:50 -0400 (Thu, 17 Mar 2022) EndedAt: 2022-03-17 18:00:48 -0400 (Thu, 17 Mar 2022) EllapsedTime: 118.5 seconds RetCode: 0 Status: OK PackageFile: scClassify_1.7.1.tar.gz PackageFileSize: 2.788 MiB