Package: scAlign Version: 1.10.0 Command: /home/biocbuild/bbs-3.15-bioc/R/bin/R CMD check --install=check:scAlign.install-out.txt --library=/home/biocbuild/bbs-3.15-bioc/R/library --no-vignettes --timings scAlign_1.10.0.tar.gz StartedAt: 2022-10-18 21:39:48 -0400 (Tue, 18 Oct 2022) EndedAt: 2022-10-18 21:43:16 -0400 (Tue, 18 Oct 2022) EllapsedTime: 208.0 seconds RetCode: 1 Status: ERROR CheckDir: scAlign.Rcheck Warnings: NA