Package: sagenhaft Version: 1.66.0 Command: rm -rf sagenhaft.buildbin-libdir && mkdir sagenhaft.buildbin-libdir && F:\biocbuild\bbs-3.15-bioc\R\bin\R.exe CMD INSTALL --build --library=sagenhaft.buildbin-libdir sagenhaft_1.66.0.tar.gz StartedAt: 2022-10-19 06:31:25 -0400 (Wed, 19 Oct 2022) EndedAt: 2022-10-19 06:31:33 -0400 (Wed, 19 Oct 2022) EllapsedTime: 7.7 seconds RetCode: 0 Status: OK PackageFile: sagenhaft_1.66.0.zip PackageFileSize: 2.573 MiB