Package: safe Version: 3.36.0 Command: /home/biocbuild/bbs-3.15-bioc/R/bin/R CMD build --keep-empty-dirs --no-resave-data safe StartedAt: 2022-10-18 17:56:11 -0400 (Tue, 18 Oct 2022) EndedAt: 2022-10-18 18:00:32 -0400 (Tue, 18 Oct 2022) EllapsedTime: 261.4 seconds RetCode: 0 Status: OK PackageFile: safe_3.36.0.tar.gz PackageFileSize: 511.8 KiB