Package: rpx Version: 2.3.2 Command: rm -rf rpx.buildbin-libdir && mkdir rpx.buildbin-libdir && D:\biocbuild\bbs-3.15-bioc\R\bin\R.exe CMD INSTALL --build --library=rpx.buildbin-libdir rpx_2.3.2.tar.gz StartedAt: 2022-03-17 21:35:06 -0400 (Thu, 17 Mar 2022) EndedAt: 2022-03-17 21:36:58 -0400 (Thu, 17 Mar 2022) EllapsedTime: 111.8 seconds RetCode: 0 Status: OK PackageFile: rpx_2.3.2.zip PackageFileSize: 461.2 KiB