Package: rpx Version: 2.4.1 Command: /Library/Frameworks/R.framework/Resources/bin/R CMD check --install=check:rpx.install-out.txt --library=/Library/Frameworks/R.framework/Resources/library --no-vignettes --timings rpx_2.4.1.tar.gz StartedAt: 2022-10-19 07:21:40 -0400 (Wed, 19 Oct 2022) EndedAt: 2022-10-19 07:23:17 -0400 (Wed, 19 Oct 2022) EllapsedTime: 97.2 seconds RetCode: 0 Status: OK CheckDir: rpx.Rcheck Warnings: 0