Package: rpx Version: 2.4.1 Command: /Library/Frameworks/R.framework/Resources/bin/R CMD build --keep-empty-dirs --no-resave-data rpx StartedAt: 2022-10-18 21:21:18 -0400 (Tue, 18 Oct 2022) EndedAt: 2022-10-18 21:21:40 -0400 (Tue, 18 Oct 2022) EllapsedTime: 21.9 seconds RetCode: 0 Status: OK PackageFile: rpx_2.4.1.tar.gz PackageFileSize: 293 KiB