Package: rexposome Version: 1.17.1 Command: D:\biocbuild\bbs-3.15-bioc\R\bin\R.exe CMD check --no-multiarch --install=check:rexposome.install-out.txt --library=D:\biocbuild\bbs-3.15-bioc\R\library --no-vignettes --timings rexposome_1.17.1.tar.gz StartedAt: 2022-03-17 20:03:19 -0400 (Thu, 17 Mar 2022) EndedAt: 2022-03-17 20:05:47 -0400 (Thu, 17 Mar 2022) EllapsedTime: 148.4 seconds RetCode: 0 Status: WARNINGS CheckDir: rexposome.Rcheck Warnings: 2