git_url: https://git.bioconductor.org/packages/rGenomeTracks git_branch: RELEASE_3_15 git_last_commit: 06593df git_last_commit_date: 2022-04-26 12:18:09 -0400 (Tue, 26 Apr 2022) Package: rGenomeTracks Version: 1.2.0 Maintainer: Omar Elashkar MaintainerEmail: omar.i.elashkar at gmail.com