Package: rDGIdb Version: 1.21.0 Command: chmod a+r rDGIdb -R && D:\biocbuild\bbs-3.15-bioc\R\bin\R.exe CMD build --keep-empty-dirs --no-resave-data rDGIdb StartedAt: 2022-03-17 17:51:06 -0400 (Thu, 17 Mar 2022) EndedAt: 2022-03-17 17:51:54 -0400 (Thu, 17 Mar 2022) EllapsedTime: 48.1 seconds RetCode: 0 Status: OK PackageFile: rDGIdb_1.21.0.tar.gz PackageFileSize: 178.9 KiB