Package: quantro Version: 1.30.0 Command: /Library/Frameworks/R.framework/Resources/bin/R CMD INSTALL quantro StartedAt: 2022-10-18 16:13:00 -0400 (Tue, 18 Oct 2022) EndedAt: 2022-10-18 16:14:25 -0400 (Tue, 18 Oct 2022) EllapsedTime: 85.3 seconds RetCode: 0 Status: OK