Package: qPLEXanalyzer Version: 1.13.1 Command: D:\biocbuild\bbs-3.15-bioc\R\bin\R.exe CMD INSTALL qPLEXanalyzer StartedAt: 2022-03-17 15:56:23 -0400 (Thu, 17 Mar 2022) EndedAt: 2022-03-17 15:57:37 -0400 (Thu, 17 Mar 2022) EllapsedTime: 73.2 seconds RetCode: 0 Status: OK