Package: qPLEXanalyzer Version: 1.13.1 Command: chmod a+r qPLEXanalyzer -R && D:\biocbuild\bbs-3.15-bioc\R\bin\R.exe CMD build --keep-empty-dirs --no-resave-data qPLEXanalyzer StartedAt: 2022-03-17 17:46:30 -0400 (Thu, 17 Mar 2022) EndedAt: 2022-03-17 17:50:35 -0400 (Thu, 17 Mar 2022) EllapsedTime: 244.4 seconds RetCode: 0 Status: OK PackageFile: qPLEXanalyzer_1.13.1.tar.gz PackageFileSize: 3.978 MiB