Package: qPLEXanalyzer Version: 1.14.1 Command: rm -rf qPLEXanalyzer.buildbin-libdir && mkdir qPLEXanalyzer.buildbin-libdir && /Users/biocbuild/BBS/utils/build-universal.sh qPLEXanalyzer_1.14.1.tar.gz /Library/Frameworks/R.framework/Resources/bin/R qPLEXanalyzer.buildbin-libdir StartedAt: 2022-10-19 10:57:27 -0400 (Wed, 19 Oct 2022) EndedAt: 2022-10-19 10:58:13 -0400 (Wed, 19 Oct 2022) EllapsedTime: 46.6 seconds RetCode: 0 Status: OK PackageFile: qPLEXanalyzer_1.14.1.tgz PackageFileSize: 3.565 MiB