Package: proFIA Version: 1.22.0 Command: rm -rf proFIA.buildbin-libdir && mkdir proFIA.buildbin-libdir && /Users/biocbuild/BBS/utils/build-universal.sh proFIA_1.22.0.tar.gz /Library/Frameworks/R.framework/Resources/bin/R proFIA.buildbin-libdir StartedAt: 2022-06-22 11:04:44 -0400 (Wed, 22 Jun 2022) EndedAt: 2022-06-22 11:06:07 -0400 (Wed, 22 Jun 2022) EllapsedTime: 82.5 seconds RetCode: 0 Status: OK PackageFile: proFIA_1.22.0.tgz PackageFileSize: 1.98 MiB