Package: peakPantheR Version: 1.9.0 Command: chmod a+r peakPantheR -R && D:\biocbuild\bbs-3.15-bioc\R\bin\R.exe CMD build --keep-empty-dirs --no-resave-data peakPantheR StartedAt: 2022-03-17 17:35:05 -0400 (Thu, 17 Mar 2022) EndedAt: 2022-03-17 17:37:24 -0400 (Thu, 17 Mar 2022) EllapsedTime: 139.1 seconds RetCode: 0 Status: OK PackageFile: peakPantheR_1.9.0.tar.gz PackageFileSize: 3.867 MiB