git_url: https://git.bioconductor.org/packages/pathifier git_branch: RELEASE_3_15 git_last_commit: 2500ff2 git_last_commit_date: 2022-04-26 11:15:17 -0400 (Tue, 26 Apr 2022) Package: pathifier Version: 1.34.0 Maintainer: Assif Yitzhaky MaintainerEmail: assif.yitzhaky at weizmann.ac.il