Package: pandaR Version: 1.28.0 Command: /Library/Frameworks/R.framework/Resources/bin/R CMD check --install=check:pandaR.install-out.txt --library=/Library/Frameworks/R.framework/Resources/library --no-vignettes --timings pandaR_1.28.0.tar.gz StartedAt: 2022-10-19 05:54:25 -0400 (Wed, 19 Oct 2022) EndedAt: 2022-10-19 05:56:59 -0400 (Wed, 19 Oct 2022) EllapsedTime: 153.2 seconds RetCode: 0 Status: WARNINGS CheckDir: pandaR.Rcheck Warnings: 2