Package: paircompviz Version: 1.34.0 Command: rm -rf paircompviz.buildbin-libdir && mkdir paircompviz.buildbin-libdir && F:\biocbuild\bbs-3.15-bioc\R\bin\R.exe CMD INSTALL --build --library=paircompviz.buildbin-libdir paircompviz_1.34.0.tar.gz StartedAt: 2022-10-19 06:18:29 -0400 (Wed, 19 Oct 2022) EndedAt: 2022-10-19 06:18:36 -0400 (Wed, 19 Oct 2022) EllapsedTime: 6.9 seconds RetCode: 0 Status: OK PackageFile: paircompviz_1.34.0.zip PackageFileSize: 341.8 KiB